BEGIN:VCALENDAR
VERSION:2.0
PRODID:-//Claremont Showground - ECPv4.5.1//NONSGML v1.0//EN
CALSCALE:GREGORIAN
METHOD:PUBLISH
X-WR-CALNAME:Claremont Showground
X-ORIGINAL-URL:https://claremontshowground.com.au
X-WR-CALDESC:Events for Claremont Showground
BEGIN:VEVENT
DTSTART;TZID=Australia/Perth:20190610T080000
DTEND;TZID=Australia/Perth:20190811T170000
DTSTAMP:20190301T104523
CREATED:20180618T011552Z
LAST-MODIFIED:20190206T030310Z
UID:974-1560153600-1565542800@claremontshowground.com.au
SUMMARY:Winter at Wilkinson
DESCRIPTION:Ultimo Catering + Events in conjunction with Hire Society\, Vasse Felix & The Wilkinson Gallery are excited to announce our 'Winter at Wilkinson' pop-up venue for Winter 2019. Transport your guests to the city of New York with our fully furnished\, all-inclusive event space\, located in the peaceful suburbs of Claremont. Our pop-up venue features soft ambient lighting\, top of the line furniture\, staffing\, delectable food menus and premium WA Beverages.\n\nLocated only 10 minutes from the CBD\, Wilkinson Gallery has access to ample parking and nearby access to public transport. The space is able to accommodate 50-220 guests cocktail style or 120 guests for a sit down or degustation. The venue comes 100% party ready for your winter event. Available June-July 2019\n\nClick here to learn more or to book contact enquiries@ultimogroup.com.au or call (08) 9444 5807\n\n  
URL:https://claremontshowground.com.au/event/winter-at-wilkinson/
LOCATION:1 Graylands Road\, Claremont Showground\, Claremont\, WA\, 6910\, Australia
GEO:-31.9742079;115.7815419
X-APPLE-STRUCTURED-LOCATION;VALUE=URI;X-ADDRESS=1 Graylands Road Claremont Showground Claremont WA 6910 Australia;X-APPLE-RADIUS=500;X-TITLE=1 Graylands Road\, Claremont Showground:geo:115.7815419,-31.9742079
CATEGORIES:Wedding
ATTACH;FMTTYPE=image/jpeg:https://claremontshowground.com.au/wp-content/uploads/2018/06/Social-Media-Tiles-01.jpg
END:VEVENT
END:VCALENDAR