BEGIN:VCALENDAR
VERSION:2.0
PRODID:-//Claremont Showground - ECPv4.5.1//NONSGML v1.0//EN
CALSCALE:GREGORIAN
METHOD:PUBLISH
X-WR-CALNAME:Claremont Showground
X-ORIGINAL-URL:https://claremontshowground.com.au
X-WR-CALDESC:Events for Claremont Showground
BEGIN:VEVENT
DTSTART;TZID=Australia/Perth:20190601T193000
DTEND;TZID=Australia/Perth:20190601T220000
DTSTAMP:20190301T104403
CREATED:20181218T074541Z
LAST-MODIFIED:20181218T074720Z
UID:1171-1559417400-1559426400@claremontshowground.com.au
SUMMARY:Tosca by Freeze Frame Opera
DESCRIPTION:Puccini's classic opera reinvigorated by Freeze Frame Opera. Centenary Pavilion\, Claremont Showground.\n\nBetween Saturday 1 June 2019 7:30 PM and Saturday 8 June 2019 7:30 PM
URL:https://claremontshowground.com.au/event/tosca-by-freeze-frame-opera/2019-06-01/
CATEGORIES:Music
ATTACH;FMTTYPE=image/png:https://claremontshowground.com.au/wp-content/uploads/2018/12/47475597_1304677816339405_1962445826844262400_n.png
END:VEVENT
END:VCALENDAR