BEGIN:VCALENDAR
VERSION:2.0
PRODID:-//Claremont Showground - ECPv4.5.1//NONSGML v1.0//EN
CALSCALE:GREGORIAN
METHOD:PUBLISH
X-WR-CALNAME:Claremont Showground
X-ORIGINAL-URL:https://claremontshowground.com.au
X-WR-CALDESC:Events for Claremont Showground
BEGIN:VEVENT
DTSTART;TZID=Australia/Perth:20190421T140000
DTEND;TZID=Australia/Perth:20190421T220000
DTSTAMP:20190301T104135
CREATED:20190108T014443Z
LAST-MODIFIED:20190115T022620Z
UID:1180-1555855200-1555884000@claremontshowground.com.au
SUMMARY:PURE Perth '19
DESCRIPTION:One of Australia and New Zealand’s most loved techno events\, returns for its third year to announce another huge lineup. PURE\, presented and curated by Carl Cox\, Eric Powell of Bush Records and Richie McNeill of Hardware\, will see Marco Carola (Italy)\, Joseph Capriati (Italy)\, Enrico Sangiuliano (Italy) and Eric Powell take to the stage once again in 2019.\n\nAfter its first year in Ibiza winning best event of the summer in September 2017\, this year the Australian leg expands to include Adelaide fans for the first time alongside regulars Sydney\, Melbourne\, Perth and Brisbane. PURE 2019 will tour Australia in April.\n\nCelebrating techno and house music\, PURE has quickly established itself as a must attend event for dance music fans across the two countries\, thanks to its reputation as an event where the audience can make a special connection with the DJs.\n\nJoin us for a night of Pure techno\, delivered with incredible sound in an old fashioned no nonsense\, no fluff rave atmosphere.
URL:https://claremontshowground.com.au/event/pure-perth-19/
LOCATION:1 Graylands Road\, Claremont\, WA\, 6010\, Australia
GEO:-31.97592;115.7852
X-APPLE-STRUCTURED-LOCATION;VALUE=URI;X-ADDRESS=1 Graylands Road Claremont WA 6010 Australia;X-APPLE-RADIUS=500;X-TITLE=1 Graylands Road:geo:115.7852,-31.97592
CATEGORIES:Music
ATTACH;FMTTYPE=image/jpeg:https://claremontshowground.com.au/wp-content/uploads/2019/01/49728040_2138886849502096_1568426300203335680_o.jpg
END:VEVENT
END:VCALENDAR