BEGIN:VCALENDAR
VERSION:2.0
PRODID:-//Claremont Showground - ECPv4.5.1//NONSGML v1.0//EN
CALSCALE:GREGORIAN
METHOD:PUBLISH
X-WR-CALNAME:Claremont Showground
X-ORIGINAL-URL:https://claremontshowground.com.au
X-WR-CALDESC:Events for Claremont Showground
BEGIN:VEVENT
DTSTART;TZID=Australia/Perth:20190309T090000
DTEND;TZID=Australia/Perth:20190310T163000
DTSTAMP:20190301T104103
CREATED:20171127T064448Z
LAST-MODIFIED:20190123T033722Z
UID:774-1552122000-1552235400@claremontshowground.com.au
SUMMARY:Pool\, Spa & Outdoor Living Expo
DESCRIPTION:We have all the big brands at the best prices and everything you need to get create your very own dream backyard!\nPools\, Spas\, Pool Equipment\, Pool Renovations\, Landscaping\, Outdoor Furniture and the best ideas in outdoor living all under one roof!\nThe SPASA Pool\, Spa & Outdoor Living Expo thanks to major sponsor Freedom Pools!\nAdult: $15\nConcession: $7\nU/18: Free\nBUY TICKETS HERE
URL:https://claremontshowground.com.au/event/pool-spa-outdoor-living-expo/
LOCATION:1 Graylands Road\, Claremont\, WA\, 6010\, Australia
GEO:-31.97592;115.7852
X-APPLE-STRUCTURED-LOCATION;VALUE=URI;X-ADDRESS=1 Graylands Road Claremont WA 6010 Australia;X-APPLE-RADIUS=500;X-TITLE=1 Graylands Road:geo:115.7852,-31.97592
CATEGORIES:Family
ATTACH;FMTTYPE=image/jpeg:https://claremontshowground.com.au/wp-content/uploads/2017/11/SPASA-pool-and-spa-expo-March-2019-banner.jpg
END:VEVENT
END:VCALENDAR