BEGIN:VCALENDAR
VERSION:2.0
PRODID:-//Claremont Showground - ECPv4.5.1//NONSGML v1.0//EN
CALSCALE:GREGORIAN
METHOD:PUBLISH
X-WR-CALNAME:Claremont Showground
X-ORIGINAL-URL:https://claremontshowground.com.au
X-WR-CALDESC:Events for Claremont Showground
BEGIN:VEVENT
DTSTART;TZID=Australia/Perth:20190320T090000
DTEND;TZID=Australia/Perth:20190324T170000
DTSTAMP:20190301T104118
CREATED:20181218T070848Z
LAST-MODIFIED:20181218T070848Z
UID:1165-1553072400-1553446800@claremontshowground.com.au
SUMMARY:Perth Caravan & Camping Show
DESCRIPTION:The annual Perth Caravan & Camping Show is back in 2019\, bigger and better than ever!\n\nFrom the 20th to 24th March 2019 at the Claremont Showground\, the Show will feature over 400 caravans\, 130 camper trailers and more gadgets\, gizmos and accessories than you could poke a tent pole at.\n\nWhether you’re looking to upgrade your existing set up or just starting out\, WA’s biggest caravan and camping showcase has everything you could possibly need for your next outdoor adventure\, and all in the one place.\n\nNot just for big kids\, it’s a guaranteed fun day out for the whole family with loads of entertainment and always something new to see and do.\n\nThe 2019 Perth Caravan & Camping Show: your adventure starts here!
URL:https://claremontshowground.com.au/event/perth-caravan-camping-show/
LOCATION:1 Graylands Road\, Claremont\, WA\, 6010\, Australia
GEO:-31.97592;115.7852
X-APPLE-STRUCTURED-LOCATION;VALUE=URI;X-ADDRESS=1 Graylands Road Claremont WA 6010 Australia;X-APPLE-RADIUS=500;X-TITLE=1 Graylands Road:geo:115.7852,-31.97592
CATEGORIES:Family
ATTACH;FMTTYPE=image/png:https://claremontshowground.com.au/wp-content/uploads/2018/12/perth-caravan-and-camping-show.png
END:VEVENT
END:VCALENDAR