BEGIN:VCALENDAR
VERSION:2.0
PRODID:-//Claremont Showground - ECPv4.5.1//NONSGML v1.0//EN
CALSCALE:GREGORIAN
METHOD:PUBLISH
X-WR-CALNAME:Claremont Showground
X-ORIGINAL-URL:https://claremontshowground.com.au
X-WR-CALDESC:Events for Claremont Showground
BEGIN:VEVENT
DTSTART;TZID=Australia/Perth:20190309T080000
DTEND;TZID=Australia/Perth:20190310T170000
DTSTAMP:20190301T104014
CREATED:20171025T051022Z
LAST-MODIFIED:20190220T014159Z
UID:717-1552118400-1552237200@claremontshowground.com.au
SUMMARY:Legacy Military Auction
DESCRIPTION:Join us in the Wattle Room at the Claremont Showground for the Legacy Military Auction.\n\nThis auction will feature weapons\, badges\, uniforms\, medals\, books and military memorabilia.\n\nFor any questions please contact john@lmba.com.au\n\n\n\n 
URL:https://claremontshowground.com.au/event/legacy-military-auction/
LOCATION:1 Graylands Road\, Claremont\, Western Australia\, 6010\, Australia
ATTACH;FMTTYPE=image/jpeg:https://claremontshowground.com.au/wp-content/uploads/2017/10/LEGACY®_inline_RGB-hi-res.jpg
END:VEVENT
END:VCALENDAR