BEGIN:VCALENDAR
VERSION:2.0
PRODID:-//Claremont Showground - ECPv5.0.0//NONSGML v1.0//EN
CALSCALE:GREGORIAN
METHOD:PUBLISH
X-WR-CALNAME:Claremont Showground
X-ORIGINAL-URL:https://claremontshowground.com.au
X-WR-CALDESC:Events for Claremont Showground
BEGIN:VTIMEZONE
TZID:Australia/Perth
BEGIN:STANDARD
TZOFFSETFROM:+0800
TZOFFSETTO:+0800
TZNAME:AWST
DTSTART:20190101T000000
END:STANDARD
END:VTIMEZONE
BEGIN:VEVENT
DTSTART;TZID=Australia/Perth:20190802T090000
DTEND;TZID=Australia/Perth:20190804T170000
DTSTAMP:20210224T030946
CREATED:20190716T025717Z
LAST-MODIFIED:20190716T025824Z
UID:1441-1564736400-1564938000@claremontshowground.com.au
SUMMARY:Dare to Dream Solo Exhibition
DESCRIPTION:Solo Art Exhibition by Brittz Art.\nWe are delighted to invite you to the Dare to Dream Solo Art Exhibition by Brittney Coutts on Friday 2nd August until Sunday 4th August\, open from 9:00am – 5:00pm daily. \nBrittney is an established young artist with Autism who has been recognised for her extraordinary work as an talented Artist by winning two Nexus Art Grants and an art mentor as a result in 2018 & 2019. Brittney has had the opportunity to exhibit her art in a variety of exhibitions over the last 4 years. In addition\, she was featured in West Australian newspaper last year after being interviewed about her work and passion for art. \nWe will be hosting an exclusive Opening Night Premier on Friday 2nd August from 6:00pm until 9:00pm with canapés and beverages being served for guest to enjoy\, whilst admiring the exhibition. Please register your interest for the opening night and the exhibition. Tickets are limited so don’t miss out! \nWe hope you can join us for this extraordinary Art Exhibition. \nREGISTER \n
URL:https://claremontshowground.com.au/event/dare-to-dream-solo-exhibition/
LOCATION:Wilkinson Gallery\, 1 Graylands Road\, Claremont Showground\, Claremont\, WA\, 6910\, Australia
ATTACH;FMTTYPE=image/jpeg:https://claremontshowground.com.au/wp-content/uploads/2019/07/brittz.jpg
END:VEVENT
END:VCALENDAR